BEGIN:VCALENDAR
VERSION:2.0
PRODID:-//Boilermaker Road Race - ECPv6.15.18//NONSGML v1.0//EN
CALSCALE:GREGORIAN
METHOD:PUBLISH
X-ORIGINAL-URL:https://www.boilermaker.com
X-WR-CALDESC:Events for Boilermaker Road Race
REFRESH-INTERVAL;VALUE=DURATION:PT1H
X-Robots-Tag:noindex
X-PUBLISHED-TTL:PT1H
BEGIN:VTIMEZONE
TZID:UTC
BEGIN:STANDARD
TZOFFSETFROM:+0000
TZOFFSETTO:+0000
TZNAME:UTC
DTSTART:20230101T000000
END:STANDARD
END:VTIMEZONE
BEGIN:VEVENT
DTSTART;TZID=UTC:20241026T090000
DTEND;TZID=UTC:20241026T110000
DTSTAMP:20260421T085517
CREATED:20240926T142554Z
LAST-MODIFIED:20240926T142554Z
UID:10000019-1729933200-1729940400@www.boilermaker.com
SUMMARY:Boolermaker Kids Run
DESCRIPTION:The Boolermaker Kids Run presented by GPO Federal Credit Union is a Halloween-themed fun run part of the Boilermaker’s community outreach programming. There are distances for ages 4-13 as well as entertainment\, activities\, and more.\nThere is a fee of $10 to participate\, which includes a t-shirt\, finisher’s medal\, and goody bag. Registration must be completed in advance of the event and will be capped at 500 participants.\nCheck-in will begin at 9 AM. Race heats start promptly at 10 AM. $10 per child includes a goody bag\, finisher’s medal\, and Boolermaker t-shirt (shirt guaranteed if registered by October 13).\nCostumes are welcome and encouraged\, but not required. Please ensure children are wearing appropriate footwear (sneakers) and are able to move comfortably. No capes\, please.
URL:https://www.boilermaker.com/event/boolermaker-kids-run-2024/
LOCATION:FT Proctor Park\, 1254 Culver Ave.\, Utica\, 13501\, United States
CATEGORIES:Events,family,Races
ATTACH;FMTTYPE=image/jpeg:https://www.boilermaker.com/wp-content/uploads/2023/09/DSC9978-scaled.jpg
END:VEVENT
END:VCALENDAR